BEGIN:VCALENDAR
VERSION:2.0
PRODID:-//Essential Church School - ECPv6.15.20//NONSGML v1.0//EN
CALSCALE:GREGORIAN
METHOD:PUBLISH
X-ORIGINAL-URL:https://www.essentialchurchschool.org
X-WR-CALDESC:Events for Essential Church School
REFRESH-INTERVAL;VALUE=DURATION:PT1H
X-Robots-Tag:noindex
X-PUBLISHED-TTL:PT1H
BEGIN:VTIMEZONE
TZID:America/Chicago
BEGIN:DAYLIGHT
TZOFFSETFROM:-0600
TZOFFSETTO:-0500
TZNAME:CDT
DTSTART:20240310T080000
END:DAYLIGHT
BEGIN:STANDARD
TZOFFSETFROM:-0500
TZOFFSETTO:-0600
TZNAME:CST
DTSTART:20241103T070000
END:STANDARD
BEGIN:DAYLIGHT
TZOFFSETFROM:-0600
TZOFFSETTO:-0500
TZNAME:CDT
DTSTART:20250309T080000
END:DAYLIGHT
BEGIN:STANDARD
TZOFFSETFROM:-0500
TZOFFSETTO:-0600
TZNAME:CST
DTSTART:20251102T070000
END:STANDARD
BEGIN:DAYLIGHT
TZOFFSETFROM:-0600
TZOFFSETTO:-0500
TZNAME:CDT
DTSTART:20260308T080000
END:DAYLIGHT
BEGIN:STANDARD
TZOFFSETFROM:-0500
TZOFFSETTO:-0600
TZNAME:CST
DTSTART:20261101T070000
END:STANDARD
BEGIN:DAYLIGHT
TZOFFSETFROM:-0600
TZOFFSETTO:-0500
TZNAME:CDT
DTSTART:20270314T080000
END:DAYLIGHT
BEGIN:STANDARD
TZOFFSETFROM:-0500
TZOFFSETTO:-0600
TZNAME:CST
DTSTART:20271107T070000
END:STANDARD
END:VTIMEZONE
BEGIN:VEVENT
DTSTART;TZID=America/Chicago:20260131T130000
DTEND;TZID=America/Chicago:20260131T150000
DTSTAMP:20260425T083600
CREATED:20251031T154221Z
LAST-MODIFIED:20251031T154221Z
UID:10000371-1769864400-1769871600@www.essentialchurchschool.org
SUMMARY:Alabama Homeschool Spelling Bee
DESCRIPTION:Homeschool Alabama has registered with Scripps organization so homeschoolers in Alabama from grades K-8 will have a way to participate in the national spelling bee. The winner of this state homeschool spelling bee will move on to the Alabama state spelling bee in Birmingham in March. A student must be registered through a school or organization that is enrolled with Scripps. \nThe Scripps organization made a few changes this year. The main one that affects us is that there is no longer an online testing option\, so there will be no preliminary bee this year. All students who register with Homeschool Alabama will participate in the in-person bee in Birmingham. \nPlease be aware that the target audience for the spelling bee is grades 4-8; there is no minimum grade for participation in the program. All participating students should be in grade 8 or below. \nPlease register your students by Jan 15th \nAfter you register you will receive an email with word lists to study so the earlier you register\, the better for your student. \nAre you a member of Homeschool Alabama?  Be sure to include your discount code!  Want to join Homeschool Alabama today?  Visit HomeschoolAL.org for more details\, and check with Essential for an Active School membership code. \nCOST:  $25/family for student registration – no cost to attend and observe!
URL:https://www.essentialchurchschool.org/event/alabama-homeschool-spelling-bee/
LOCATION:Faulkner University – Birmingham Campus\, Southlake Parkway\, Birmingham\, Alabama\, 35244\, United States
CATEGORIES:Homeschool Activities
ATTACH;FMTTYPE=image/png:https://www.essentialchurchschool.org/wp-content/uploads/2025/10/SpellingBee26.png
GEO:33.3614713;-86.7711211
X-APPLE-STRUCTURED-LOCATION;VALUE=URI;X-ADDRESS=Faulkner University – Birmingham Campus Southlake Parkway Birmingham Alabama 35244 United States;X-APPLE-RADIUS=500;X-TITLE=Southlake Parkway:geo:-86.7711211,33.3614713
END:VEVENT
BEGIN:VEVENT
DTSTART;TZID=America/Chicago:20250201T130000
DTEND;TZID=America/Chicago:20250201T150000
DTSTAMP:20260425T083600
CREATED:20240928T220550Z
LAST-MODIFIED:20250123T021842Z
UID:10000313-1738414800-1738422000@www.essentialchurchschool.org
SUMMARY:AL Homeschool Spelling Bee 2024
DESCRIPTION:Homeschool Alabama has registered with Scripps organization so homeschoolers in Alabama will have a way to participate in the national spelling bee. The winner of this state homeschool spelling bee will move on to the state spelling bee in Birmingham in March. \nState Homeschool Spelling Bee\nSaturday February 1\, 2025\, 1 pm\nFaulkner University Birmingham campus\n4524 Southlake Pkwy\, Birmingham AL 35244\n(near Valleydale Road and Interstate 65)\n(Weather date February 8) \nThis year\, we will use the Scripps National Spelling Bee’s online testing platform to hold our Homeschool Alabama preliminary spelling bee via an online spelling test. This will be available January 1-12\, 2025. The top students (approximately 20) from this preliminary bee will advance to the state homeschool bee on February 1. \nPlease register your family here .   \nThe cost is $15 plus a 4% fee for credit card and web use\, for a total of $20.60. The deadline to register is on or before December 31\, 2024. After you register you will receive an email with word lists to study so the earlier you register\, the better for your student. \nYou may have a question about our registration closing by December 31\, because the national spelling bee allows registration through January. However\, the Alabama deadline to get our winner info to them is mid-February. So our deadline must be earlier than January 31.
URL:https://www.essentialchurchschool.org/event/al-homeschool-spelling-bee-2024/
LOCATION:Faulkner University – Birmingham Campus\, Southlake Parkway\, Birmingham\, Alabama\, 35244\, United States
CATEGORIES:Homeschool Activities
ATTACH;FMTTYPE=image/png:https://www.essentialchurchschool.org/wp-content/uploads/2022/10/spelling-bee-1.png
GEO:33.3614713;-86.7711211
X-APPLE-STRUCTURED-LOCATION;VALUE=URI;X-ADDRESS=Faulkner University – Birmingham Campus Southlake Parkway Birmingham Alabama 35244 United States;X-APPLE-RADIUS=500;X-TITLE=Southlake Parkway:geo:-86.7711211,33.3614713
END:VEVENT
END:VCALENDAR