BEGIN:VCALENDAR
VERSION:2.0
PRODID:-//Essential Church School - ECPv6.15.20//NONSGML v1.0//EN
CALSCALE:GREGORIAN
METHOD:PUBLISH
X-WR-CALNAME:Essential Church School
X-ORIGINAL-URL:https://www.essentialchurchschool.org
X-WR-CALDESC:Events for Essential Church School
REFRESH-INTERVAL;VALUE=DURATION:PT1H
X-Robots-Tag:noindex
X-PUBLISHED-TTL:PT1H
BEGIN:VTIMEZONE
TZID:America/Chicago
BEGIN:DAYLIGHT
TZOFFSETFROM:-0600
TZOFFSETTO:-0500
TZNAME:CDT
DTSTART:20250309T080000
END:DAYLIGHT
BEGIN:STANDARD
TZOFFSETFROM:-0500
TZOFFSETTO:-0600
TZNAME:CST
DTSTART:20251102T070000
END:STANDARD
BEGIN:DAYLIGHT
TZOFFSETFROM:-0600
TZOFFSETTO:-0500
TZNAME:CDT
DTSTART:20260308T080000
END:DAYLIGHT
BEGIN:STANDARD
TZOFFSETFROM:-0500
TZOFFSETTO:-0600
TZNAME:CST
DTSTART:20261101T070000
END:STANDARD
BEGIN:DAYLIGHT
TZOFFSETFROM:-0600
TZOFFSETTO:-0500
TZNAME:CDT
DTSTART:20270314T080000
END:DAYLIGHT
BEGIN:STANDARD
TZOFFSETFROM:-0500
TZOFFSETTO:-0600
TZNAME:CST
DTSTART:20271107T070000
END:STANDARD
END:VTIMEZONE
BEGIN:VEVENT
DTSTART;TZID=America/Chicago:20260306T100000
DTEND;TZID=America/Chicago:20260306T120000
DTSTAMP:20260424T074549
CREATED:20260223T163546Z
LAST-MODIFIED:20260223T163546Z
UID:10000377-1772791200-1772798400@www.essentialchurchschool.org
SUMMARY:BHC History Fair
DESCRIPTION:We are excited to see student presentations at this special time of celebrating Revolution\, Reform\, Reaction in History to commemorate the 250th anniversary of the Declaration of Independence. \nRegister your student’s participation today at https://www.zeffy.com/en-US/ticketing/bhc-history-fair \nMake plans to come and view and support these students’ efforts!
URL:https://www.essentialchurchschool.org/event/bhc-history-fair/
LOCATION:North Shelby Library\, 5521 Cahaba Valley Road\, Birmingham\, AL\, United States
CATEGORIES:Homeschool Activities
ATTACH;FMTTYPE=image/png:https://www.essentialchurchschool.org/wp-content/uploads/2026/02/BHC-History-Fair-26-scaled.png
GEO:33.3645855;-86.7165283
X-APPLE-STRUCTURED-LOCATION;VALUE=URI;X-ADDRESS=North Shelby Library 5521 Cahaba Valley Road Birmingham AL United States;X-APPLE-RADIUS=500;X-TITLE=5521 Cahaba Valley Road:geo:-86.7165283,33.3645855
END:VEVENT
END:VCALENDAR