BEGIN:VCALENDAR
VERSION:2.0
PRODID:-//Essential Church School - ECPv6.15.20//NONSGML v1.0//EN
CALSCALE:GREGORIAN
METHOD:PUBLISH
X-WR-CALNAME:Essential Church School
X-ORIGINAL-URL:https://www.essentialchurchschool.org
X-WR-CALDESC:Events for Essential Church School
REFRESH-INTERVAL;VALUE=DURATION:PT1H
X-Robots-Tag:noindex
X-PUBLISHED-TTL:PT1H
BEGIN:VTIMEZONE
TZID:America/Chicago
BEGIN:DAYLIGHT
TZOFFSETFROM:-0600
TZOFFSETTO:-0500
TZNAME:CDT
DTSTART:20240310T080000
END:DAYLIGHT
BEGIN:STANDARD
TZOFFSETFROM:-0500
TZOFFSETTO:-0600
TZNAME:CST
DTSTART:20241103T070000
END:STANDARD
BEGIN:DAYLIGHT
TZOFFSETFROM:-0600
TZOFFSETTO:-0500
TZNAME:CDT
DTSTART:20250309T080000
END:DAYLIGHT
BEGIN:STANDARD
TZOFFSETFROM:-0500
TZOFFSETTO:-0600
TZNAME:CST
DTSTART:20251102T070000
END:STANDARD
BEGIN:DAYLIGHT
TZOFFSETFROM:-0600
TZOFFSETTO:-0500
TZNAME:CDT
DTSTART:20260308T080000
END:DAYLIGHT
BEGIN:STANDARD
TZOFFSETFROM:-0500
TZOFFSETTO:-0600
TZNAME:CST
DTSTART:20261101T070000
END:STANDARD
END:VTIMEZONE
BEGIN:VEVENT
DTSTART;VALUE=DATE:20251107
DTEND;VALUE=DATE:20251108
DTSTAMP:20260424T150810
CREATED:20251021T181143Z
LAST-MODIFIED:20251021T181143Z
UID:10000370-1762473600-1762559999@www.essentialchurchschool.org
SUMMARY:National Homeschool Day of Prayer
DESCRIPTION:Please join us and other homeschoolers across the country as we:\n\nGive thanks for the freedom we have to homeschool our children\,\nPray for homeschooling families in your own nation and around the world\,\nPray for upcoming elections and the impact they may have on homeschooling\,\nPray for your state’s homeschool organization and its leaders.\nPray for your elected officials to recognize that the education of children is the responsibility of the parents\, not that of the nation\,\nPray for your own family—your homeschooling journey and the Lord’s guidance as you take that journey\, your relationships with one another\, your own children and their futures\, as well as seeking ways your family can minister to others\,\nRejoice in God’s mercy and His faithfulness in all things.
URL:https://www.essentialchurchschool.org/event/national-homeschool-day-of-prayer-2/
LOCATION:Virtual
CATEGORIES:Homeschool Activities,Virtual Events
ATTACH;FMTTYPE=image/jpeg:https://www.essentialchurchschool.org/wp-content/uploads/2025/10/nationalhsprayer25.jpg
END:VEVENT
BEGIN:VEVENT
DTSTART;TZID=America/Chicago:20251120T120000
DTEND;TZID=America/Chicago:20251120T140000
DTSTAMP:20260424T150810
CREATED:20250909T133910Z
LAST-MODIFIED:20250915T143649Z
UID:10000348-1763640000-1763647200@www.essentialchurchschool.org
SUMMARY:TEEN - House Hang
DESCRIPTION:***This group is exclusively for high schoolers- must be at least 14 and in 9th grade by Sept. 1st.*** \nWear your favorite team jersey/shirt! Any team\, any sport!\nNot a sports fan? No problem\, just come for the fun! \nWe’ll have some yard games for the teens to play if they want\, or they can just hangout and talk! \n*Parents are welcome to stay and hang too\, or if you have younger kiddos to tend to\, you can drop off teen. \nFor exact address\, please join group or contact Lindy. \n3H GroupMe\nClick here to join: https://groupme.com/join_group/95267939/8h2uLyYR
URL:https://www.essentialchurchschool.org/event/teen-house-hang-2/
LOCATION:Private Home\, Birmingham\, 35244\, United States
CATEGORIES:For High School
ATTACH;FMTTYPE=image/jpeg:https://www.essentialchurchschool.org/wp-content/uploads/2025/09/image7-3.jpeg
GEO:33.3639393;-86.8119917
END:VEVENT
END:VCALENDAR