BEGIN:VCALENDAR
VERSION:2.0
PRODID:-//Essential Church School - ECPv6.15.20//NONSGML v1.0//EN
CALSCALE:GREGORIAN
METHOD:PUBLISH
X-WR-CALNAME:Essential Church School
X-ORIGINAL-URL:https://www.essentialchurchschool.org
X-WR-CALDESC:Events for Essential Church School
REFRESH-INTERVAL;VALUE=DURATION:PT1H
X-Robots-Tag:noindex
X-PUBLISHED-TTL:PT1H
BEGIN:VTIMEZONE
TZID:America/Chicago
BEGIN:DAYLIGHT
TZOFFSETFROM:-0600
TZOFFSETTO:-0500
TZNAME:CDT
DTSTART:20240310T080000
END:DAYLIGHT
BEGIN:STANDARD
TZOFFSETFROM:-0500
TZOFFSETTO:-0600
TZNAME:CST
DTSTART:20241103T070000
END:STANDARD
BEGIN:DAYLIGHT
TZOFFSETFROM:-0600
TZOFFSETTO:-0500
TZNAME:CDT
DTSTART:20250309T080000
END:DAYLIGHT
BEGIN:STANDARD
TZOFFSETFROM:-0500
TZOFFSETTO:-0600
TZNAME:CST
DTSTART:20251102T070000
END:STANDARD
BEGIN:DAYLIGHT
TZOFFSETFROM:-0600
TZOFFSETTO:-0500
TZNAME:CDT
DTSTART:20260308T080000
END:DAYLIGHT
BEGIN:STANDARD
TZOFFSETFROM:-0500
TZOFFSETTO:-0600
TZNAME:CST
DTSTART:20261101T070000
END:STANDARD
END:VTIMEZONE
BEGIN:VEVENT
DTSTART;TZID=America/Chicago:20251204T100000
DTEND;TZID=America/Chicago:20251204T113000
DTSTAMP:20260423T033055
CREATED:20250909T185806Z
LAST-MODIFIED:20250909T192831Z
UID:10000357-1764842400-1764847800@www.essentialchurchschool.org
SUMMARY:Narnia The Musical
DESCRIPTION:Step through the wardrobe into the magical world of Narnia\, where four siblings embark on an epic quest to defeat the White Witch and restore peace. This enchanting adaptation of C.S. Lewis’s beloved tale features heroic battles\, mythical creatures\, and the triumph of good over evil. A perfect holiday treat for the whole family.​ \nReserve your admissions by Nov 1st!  Don’t forget to have your Essential discount code which can be found on your Member Page. \nRESERVE ADMISSIONS NOW\n  \n 
URL:https://www.essentialchurchschool.org/event/narnia-the-musical/
LOCATION:BCT Mainstage Theatre\, 2100 Richard Arrington Jr. Blvd N\, Birmingham\, 35203\, United States
CATEGORIES:Field Trips
ATTACH;FMTTYPE=image/png:https://www.essentialchurchschool.org/wp-content/uploads/2025/09/narniamusical.png
GEO:33.524643;-86.8108148
X-APPLE-STRUCTURED-LOCATION;VALUE=URI;X-ADDRESS=BCT Mainstage Theatre 2100 Richard Arrington Jr. Blvd N Birmingham 35203 United States;X-APPLE-RADIUS=500;X-TITLE=2100 Richard Arrington Jr. Blvd N:geo:-86.8108148,33.524643
END:VEVENT
BEGIN:VEVENT
DTSTART;TZID=America/Chicago:20251218T100000
DTEND;TZID=America/Chicago:20251218T120000
DTSTAMP:20260423T033055
CREATED:20250815T000527Z
LAST-MODIFIED:20250815T002357Z
UID:10000345-1766052000-1766059200@www.essentialchurchschool.org
SUMMARY:George Balanchine's The Nutcracker
DESCRIPTION:Join us for a special school performance of George Balanchine’s The Nutcracker! \nBecause this is a special school performance\, the Alabama Ballet is requiring that no more than 1 “teacher” per student attend.  This is not an event for bringing Grandma\, or your favorite Auntie.  In addition\, this is not a performance for young children under the age of 5. \nThis annual performance is very popular\, and we are securing our seats a bit earlier this year due to a new reservation system.  Please complete your reservations and payments by September 5th! \nRESERVE YOUR TICKETS NOW
URL:https://www.essentialchurchschool.org/event/george-balanchines-the-nutcracker-3/
LOCATION:BJCC Concert Hall\, 2100 Richard Arrington Blvd N\, Birmingham\, AL\, 35203\, United States
CATEGORIES:Field Trips
ATTACH;FMTTYPE=image/jpeg:https://www.essentialchurchschool.org/wp-content/uploads/2024/04/nutcracker.jpg
GEO:33.5250097;-86.8080684
X-APPLE-STRUCTURED-LOCATION;VALUE=URI;X-ADDRESS=BJCC Concert Hall 2100 Richard Arrington Blvd N Birmingham AL 35203 United States;X-APPLE-RADIUS=500;X-TITLE=2100 Richard Arrington Blvd N:geo:-86.8080684,33.5250097
END:VEVENT
END:VCALENDAR