BEGIN:VCALENDAR
VERSION:2.0
PRODID:-//Essential Church School - ECPv6.15.20//NONSGML v1.0//EN
CALSCALE:GREGORIAN
METHOD:PUBLISH
X-ORIGINAL-URL:https://www.essentialchurchschool.org
X-WR-CALDESC:Events for Essential Church School
REFRESH-INTERVAL;VALUE=DURATION:PT1H
X-Robots-Tag:noindex
X-PUBLISHED-TTL:PT1H
BEGIN:VTIMEZONE
TZID:America/Chicago
BEGIN:DAYLIGHT
TZOFFSETFROM:-0600
TZOFFSETTO:-0500
TZNAME:CDT
DTSTART:20240310T080000
END:DAYLIGHT
BEGIN:STANDARD
TZOFFSETFROM:-0500
TZOFFSETTO:-0600
TZNAME:CST
DTSTART:20241103T070000
END:STANDARD
BEGIN:DAYLIGHT
TZOFFSETFROM:-0600
TZOFFSETTO:-0500
TZNAME:CDT
DTSTART:20250309T080000
END:DAYLIGHT
BEGIN:STANDARD
TZOFFSETFROM:-0500
TZOFFSETTO:-0600
TZNAME:CST
DTSTART:20251102T070000
END:STANDARD
BEGIN:DAYLIGHT
TZOFFSETFROM:-0600
TZOFFSETTO:-0500
TZNAME:CDT
DTSTART:20260308T080000
END:DAYLIGHT
BEGIN:STANDARD
TZOFFSETFROM:-0500
TZOFFSETTO:-0600
TZNAME:CST
DTSTART:20261101T070000
END:STANDARD
END:VTIMEZONE
BEGIN:VEVENT
DTSTART;TZID=America/Chicago:20251112T093000
DTEND;TZID=America/Chicago:20251112T113000
DTSTAMP:20260423T101830
CREATED:20251016T025544Z
LAST-MODIFIED:20251017T152553Z
UID:10000368-1762939800-1762947000@www.essentialchurchschool.org
SUMMARY:Botanical Gardens Discovery Field Trip
DESCRIPTION:A field trip for the whole family!  We only have a few spots for this one though\, so register ASAP! \nRESERVE NOW
URL:https://www.essentialchurchschool.org/event/botanical-gardens-discovery-field-trip/
LOCATION:Birmingham Botanical Gardens\, 2612 Lane Park Road\, Birmingham\, 35223\, United States
CATEGORIES:Field Trips
ATTACH;FMTTYPE=image/png:https://www.essentialchurchschool.org/wp-content/uploads/2025/10/botanical-gardens-field-trip.png
GEO:33.4899979;-86.7750066
X-APPLE-STRUCTURED-LOCATION;VALUE=URI;X-ADDRESS=Birmingham Botanical Gardens 2612 Lane Park Road Birmingham 35223 United States;X-APPLE-RADIUS=500;X-TITLE=2612 Lane Park Road:geo:-86.7750066,33.4899979
END:VEVENT
END:VCALENDAR