BEGIN:VCALENDAR
VERSION:2.0
PRODID:-//Essential Church School - ECPv6.15.20//NONSGML v1.0//EN
CALSCALE:GREGORIAN
METHOD:PUBLISH
X-ORIGINAL-URL:https://www.essentialchurchschool.org
X-WR-CALDESC:Events for Essential Church School
REFRESH-INTERVAL;VALUE=DURATION:PT1H
X-Robots-Tag:noindex
X-PUBLISHED-TTL:PT1H
BEGIN:VTIMEZONE
TZID:America/Chicago
BEGIN:DAYLIGHT
TZOFFSETFROM:-0600
TZOFFSETTO:-0500
TZNAME:CDT
DTSTART:20240310T080000
END:DAYLIGHT
BEGIN:STANDARD
TZOFFSETFROM:-0500
TZOFFSETTO:-0600
TZNAME:CST
DTSTART:20241103T070000
END:STANDARD
BEGIN:DAYLIGHT
TZOFFSETFROM:-0600
TZOFFSETTO:-0500
TZNAME:CDT
DTSTART:20250309T080000
END:DAYLIGHT
BEGIN:STANDARD
TZOFFSETFROM:-0500
TZOFFSETTO:-0600
TZNAME:CST
DTSTART:20251102T070000
END:STANDARD
BEGIN:DAYLIGHT
TZOFFSETFROM:-0600
TZOFFSETTO:-0500
TZNAME:CDT
DTSTART:20260308T080000
END:DAYLIGHT
BEGIN:STANDARD
TZOFFSETFROM:-0500
TZOFFSETTO:-0600
TZNAME:CST
DTSTART:20261101T070000
END:STANDARD
END:VTIMEZONE
BEGIN:VEVENT
DTSTART;TZID=America/Chicago:20251009T180000
DTEND;TZID=America/Chicago:20251009T203000
DTSTAMP:20260424T060841
CREATED:20250915T160353Z
LAST-MODIFIED:20250915T160353Z
UID:10000365-1760032800-1760041800@www.essentialchurchschool.org
SUMMARY:Legacy Lions vs. Trinity
DESCRIPTION:Come support and cheer on Essential students and the Legacy Lions volleyball team!
URL:https://www.essentialchurchschool.org/event/legacy-lions-vs-trinity/
LOCATION:Trinity Christian\, 265 Curry Hwy\, Jasper\, 35503\, United States
CATEGORIES:Sports
ATTACH;FMTTYPE=image/png:https://www.essentialchurchschool.org/wp-content/uploads/2015/03/Legacy-Lions-01-half.png
ORGANIZER;CN="Legacy Sports":MAILTO:info@legacylions.net
GEO:33.892053;-87.2805393
X-APPLE-STRUCTURED-LOCATION;VALUE=URI;X-ADDRESS=Trinity Christian 265 Curry Hwy Jasper 35503 United States;X-APPLE-RADIUS=500;X-TITLE=265 Curry Hwy:geo:-87.2805393,33.892053
END:VEVENT
END:VCALENDAR